BEGIN:VCALENDAR
VERSION:2.0
PRODID:spatie/icalendar-generator
DESCRIPTION:Events from Fruitport Lions Club
X-WR-CALDESC:Events from Fruitport Lions Club
REFRESH-INTERVAL;VALUE=DURATION:PT1440M
X-PUBLISHED-TTL:PT1440M
BEGIN:VTIMEZONE
TZID:Etc/GMT+0
BEGIN:STANDARD
DTSTART:20220828T160000Z
TZOFFSETFROM:+0000
TZOFFSETTO:+0000
END:STANDARD
END:VTIMEZONE
BEGIN:VTIMEZONE
TZID:UTC
BEGIN:STANDARD
DTSTART:20250729T185825Z
TZOFFSETFROM:+0000
TZOFFSETTO:+0000
END:STANDARD
END:VTIMEZONE
BEGIN:VEVENT
UID:15-13
DTSTAMP:20260425T185825Z
SUMMARY:Ox Roast
LOCATION:Pomona Park   Fruitport MI 49415
ORGANIZER;CN=Heidi Tice:MAILTO:htice@icsworldmail.com
DTSTART;TZID=Etc/GMT+0:20230525T160000
DTEND;TZID=Etc/GMT+0:20230525T200000
X-ALT-DESC;FMTTYPE=TEXT/HTML:Fruitport Lions Ox Roast 4 p.m. - 8 p.m. at th
 e Picnic Pavillion
CATEGORIES:Festival
URL;VALUE=URI:https://fruitportlionsclub.com/mc-events/ox-roast-2/
METHOD:PUBLISH
END:VEVENT
END:VCALENDAR