BEGIN:VCALENDAR
VERSION:2.0
PRODID:spatie/icalendar-generator
DESCRIPTION:Events from Fruitport Lions Club
X-WR-CALDESC:Events from Fruitport Lions Club
REFRESH-INTERVAL;VALUE=DURATION:PT1440M
X-PUBLISHED-TTL:PT1440M
BEGIN:VTIMEZONE
TZID:Etc/GMT+0
BEGIN:STANDARD
DTSTART:20230311T183000Z
TZOFFSETFROM:+0000
TZOFFSETTO:+0000
END:STANDARD
END:VTIMEZONE
BEGIN:VTIMEZONE
TZID:UTC
BEGIN:STANDARD
DTSTART:20250726T232259Z
TZOFFSETFROM:+0000
TZOFFSETTO:+0000
END:STANDARD
END:VTIMEZONE
BEGIN:VEVENT
UID:61-47
DTSTAMP:20260422T232259Z
SUMMARY:Club Board Meeting
LOCATION:Fruitport Township Hall 6543 Airline Road  Fruitport MI 49415
ORGANIZER;CN=fruitportlionsclub:MAILTO:jacob@growithtrale.com
RRULE:FREQ=MONTHLY;BYDAY=1WE;UNTIL=20231207T000000Z
DTSTART;TZID=Etc/GMT+0:20231206T183000
DTEND;TZID=Etc/GMT+0:20231206T193000
X-ALT-DESC;FMTTYPE=TEXT/HTML:
CATEGORIES:General
URL;VALUE=URI:https://fruitportlionsclub.com/mc-events/club-board-meeting/?
 mc_id=61
METHOD:PUBLISH
END:VEVENT
END:VCALENDAR